BEGIN:VCALENDAR
VERSION:2.0
PRODID:https://www.kufer.de/kuferweb / DE
METHOD:PUBLISH
CALSCALE:GREGORIAN
X-WR-TIMEZONE:Europe/Berlin
BEGIN:VTIMEZONE
TZID:Europe/Berlin
X-LIC-LOCATION:Europe/Berlin
BEGIN:DAYLIGHT
TZOFFSETFROM:+0100
TZOFFSETTO:+0200
TZNAME:CEST
DTSTART:19700329T020000
RRULE:FREQ=YEARLY;INTERVAL=1;BYDAY=-1SU;BYMONTH=3
END:DAYLIGHT
BEGIN:STANDARD
TZOFFSETFROM:+0200
TZOFFSETTO:+0100
TZNAME:CET
DTSTART:19701025T030000
RRULE:FREQ=YEARLY;INTERVAL=1;BYDAY=-1SU;BYMONTH=10
END:STANDARD
END:VTIMEZONE
BEGIN:VEVENT
DTSTAMP:20260419T150342
DTSTART;TZID=Europe/Berlin:20260220T163000
DTEND;TZID=Europe/Berlin:20260220T180000
UID:M32008-20260220T163000@VHSBOCHUM
SUMMARY:Blockflötenensemble für Fortgeschrittene (M32008) 
LOCATION:vhs im BVZ, Raum 053, Gustav-Heinemann-Platz 2-6, 44787 Bochum
END:VEVENT
BEGIN:VEVENT
DTSTAMP:20260419T150342
DTSTART;TZID=Europe/Berlin:20260227T163000
DTEND;TZID=Europe/Berlin:20260227T180000
UID:M32008-20260227T163000@VHSBOCHUM
SUMMARY:Blockflötenensemble für Fortgeschrittene (M32008) 
LOCATION:vhs im BVZ, Raum 053, Gustav-Heinemann-Platz 2-6, 44787 Bochum
END:VEVENT
BEGIN:VEVENT
DTSTAMP:20260419T150342
DTSTART;TZID=Europe/Berlin:20260306T163000
DTEND;TZID=Europe/Berlin:20260306T180000
UID:M32008-20260306T163000@VHSBOCHUM
SUMMARY:Blockflötenensemble für Fortgeschrittene (M32008) 
LOCATION:vhs im BVZ, Raum 053, Gustav-Heinemann-Platz 2-6, 44787 Bochum
END:VEVENT
BEGIN:VEVENT
DTSTAMP:20260419T150342
DTSTART;TZID=Europe/Berlin:20260313T163000
DTEND;TZID=Europe/Berlin:20260313T180000
UID:M32008-20260313T163000@VHSBOCHUM
SUMMARY:Blockflötenensemble für Fortgeschrittene (M32008) 
LOCATION:vhs im BVZ, Raum 053, Gustav-Heinemann-Platz 2-6, 44787 Bochum
END:VEVENT
BEGIN:VEVENT
DTSTAMP:20260419T150342
DTSTART;TZID=Europe/Berlin:20260320T163000
DTEND;TZID=Europe/Berlin:20260320T180000
UID:M32008-20260320T163000@VHSBOCHUM
SUMMARY:Blockflötenensemble für Fortgeschrittene (M32008) 
LOCATION:vhs im BVZ, Raum 053, Gustav-Heinemann-Platz 2-6, 44787 Bochum
END:VEVENT
BEGIN:VEVENT
DTSTAMP:20260419T150342
DTSTART;TZID=Europe/Berlin:20260327T163000
DTEND;TZID=Europe/Berlin:20260327T180000
UID:M32008-20260327T163000@VHSBOCHUM
SUMMARY:Blockflötenensemble für Fortgeschrittene (M32008) 
LOCATION:vhs im BVZ, Raum 053, Gustav-Heinemann-Platz 2-6, 44787 Bochum
END:VEVENT
BEGIN:VEVENT
DTSTAMP:20260419T150342
DTSTART;TZID=Europe/Berlin:20260417T163000
DTEND;TZID=Europe/Berlin:20260417T180000
UID:M32008-20260417T163000@VHSBOCHUM
SUMMARY:Blockflötenensemble für Fortgeschrittene (M32008) 
LOCATION:vhs im BVZ, Raum 053, Gustav-Heinemann-Platz 2-6, 44787 Bochum
END:VEVENT
BEGIN:VEVENT
DTSTAMP:20260419T150342
DTSTART;TZID=Europe/Berlin:20260424T163000
DTEND;TZID=Europe/Berlin:20260424T180000
UID:M32008-20260424T163000@VHSBOCHUM
SUMMARY:Blockflötenensemble für Fortgeschrittene (M32008) 
LOCATION:vhs im BVZ, Raum 053, Gustav-Heinemann-Platz 2-6, 44787 Bochum
END:VEVENT
BEGIN:VEVENT
DTSTAMP:20260419T150342
DTSTART;TZID=Europe/Berlin:20260508T163000
DTEND;TZID=Europe/Berlin:20260508T180000
UID:M32008-20260508T163000@VHSBOCHUM
SUMMARY:Blockflötenensemble für Fortgeschrittene (M32008) 
LOCATION:vhs im BVZ, Raum 053, Gustav-Heinemann-Platz 2-6, 44787 Bochum
END:VEVENT
END:VCALENDAR