BEGIN:VCALENDAR
VERSION:2.0
PRODID:https://www.kufer.de/kuferweb / DE
METHOD:PUBLISH
CALSCALE:GREGORIAN
X-WR-TIMEZONE:Europe/Berlin
BEGIN:VTIMEZONE
TZID:Europe/Berlin
X-LIC-LOCATION:Europe/Berlin
BEGIN:DAYLIGHT
TZOFFSETFROM:+0100
TZOFFSETTO:+0200
TZNAME:CEST
DTSTART:19700329T020000
RRULE:FREQ=YEARLY;INTERVAL=1;BYDAY=-1SU;BYMONTH=3
END:DAYLIGHT
BEGIN:STANDARD
TZOFFSETFROM:+0200
TZOFFSETTO:+0100
TZNAME:CET
DTSTART:19701025T030000
RRULE:FREQ=YEARLY;INTERVAL=1;BYDAY=-1SU;BYMONTH=10
END:STANDARD
END:VTIMEZONE
BEGIN:VEVENT
DTSTAMP:20260419T150342
DTSTART;TZID=Europe/Berlin:20260613T093000
DTEND;TZID=Europe/Berlin:20260613T123000
UID:M34014-20260613T093000@VHSBOCHUM
SUMMARY:Acrylmalerei & Mischtechniken (M34014) 
LOCATION:VHS im BVZ, Raum 1015, Gustav-Heinemann-Platz 2-6, 44787 Bochum
END:VEVENT
BEGIN:VEVENT
DTSTAMP:20260419T150342
DTSTART;TZID=Europe/Berlin:20260620T093000
DTEND;TZID=Europe/Berlin:20260620T123000
UID:M34014-20260620T093000@VHSBOCHUM
SUMMARY:Acrylmalerei & Mischtechniken (M34014) 
LOCATION:VHS im BVZ, Raum 1015, Gustav-Heinemann-Platz 2-6, 44787 Bochum
END:VEVENT
BEGIN:VEVENT
DTSTAMP:20260419T150342
DTSTART;TZID=Europe/Berlin:20260627T093000
DTEND;TZID=Europe/Berlin:20260627T123000
UID:M34014-20260627T093000@VHSBOCHUM
SUMMARY:Acrylmalerei & Mischtechniken (M34014) 
LOCATION:VHS im BVZ, Raum 1015, Gustav-Heinemann-Platz 2-6, 44787 Bochum
END:VEVENT
BEGIN:VEVENT
DTSTAMP:20260419T150342
DTSTART;TZID=Europe/Berlin:20260704T093000
DTEND;TZID=Europe/Berlin:20260704T123000
UID:M34014-20260704T093000@VHSBOCHUM
SUMMARY:Acrylmalerei & Mischtechniken (M34014) 
LOCATION:VHS im BVZ, Raum 1015, Gustav-Heinemann-Platz 2-6, 44787 Bochum
END:VEVENT
BEGIN:VEVENT
DTSTAMP:20260419T150342
DTSTART;TZID=Europe/Berlin:20260711T093000
DTEND;TZID=Europe/Berlin:20260711T123000
UID:M34014-20260711T093000@VHSBOCHUM
SUMMARY:Acrylmalerei & Mischtechniken (M34014) 
LOCATION:VHS im BVZ, Raum 1015, Gustav-Heinemann-Platz 2-6, 44787 Bochum
END:VEVENT
END:VCALENDAR