BEGIN:VCALENDAR
VERSION:2.0
PRODID:https://www.kufer.de/kuferweb / DE
METHOD:PUBLISH
CALSCALE:GREGORIAN
X-WR-TIMEZONE:Europe/Berlin
BEGIN:VTIMEZONE
TZID:Europe/Berlin
X-LIC-LOCATION:Europe/Berlin
BEGIN:DAYLIGHT
TZOFFSETFROM:+0100
TZOFFSETTO:+0200
TZNAME:CEST
DTSTART:19700329T020000
RRULE:FREQ=YEARLY;INTERVAL=1;BYDAY=-1SU;BYMONTH=3
END:DAYLIGHT
BEGIN:STANDARD
TZOFFSETFROM:+0200
TZOFFSETTO:+0100
TZNAME:CET
DTSTART:19701025T030000
RRULE:FREQ=YEARLY;INTERVAL=1;BYDAY=-1SU;BYMONTH=10
END:STANDARD
END:VTIMEZONE
BEGIN:VEVENT
DTSTAMP:20260421T101039
DTSTART;TZID=Europe/Berlin:20260211T180000
DTEND;TZID=Europe/Berlin:20260211T193000
UID:M64017-20260211T180000@VHSBOCHUM
SUMMARY:Spanisch A1.4 (M64017) 
LOCATION:Goethe-Schule Neubau, Raum N 12, Goetheplatz 1, Goetheplatz 1, 44787 Bochum
END:VEVENT
BEGIN:VEVENT
DTSTAMP:20260421T101039
DTSTART;TZID=Europe/Berlin:20260218T180000
DTEND;TZID=Europe/Berlin:20260218T193000
UID:M64017-20260218T180000@VHSBOCHUM
SUMMARY:Spanisch A1.4 (M64017) 
LOCATION:Goethe-Schule Neubau, Raum N 12, Goetheplatz 1, Goetheplatz 1, 44787 Bochum
END:VEVENT
BEGIN:VEVENT
DTSTAMP:20260421T101039
DTSTART;TZID=Europe/Berlin:20260225T180000
DTEND;TZID=Europe/Berlin:20260225T193000
UID:M64017-20260225T180000@VHSBOCHUM
SUMMARY:Spanisch A1.4 (M64017) 
LOCATION:Goethe-Schule Neubau, Raum N 12, Goetheplatz 1, Goetheplatz 1, 44787 Bochum
END:VEVENT
BEGIN:VEVENT
DTSTAMP:20260421T101039
DTSTART;TZID=Europe/Berlin:20260304T180000
DTEND;TZID=Europe/Berlin:20260304T193000
UID:M64017-20260304T180000@VHSBOCHUM
SUMMARY:Spanisch A1.4 (M64017) 
LOCATION:Goethe-Schule Neubau, Raum N 12, Goetheplatz 1, Goetheplatz 1, 44787 Bochum
END:VEVENT
BEGIN:VEVENT
DTSTAMP:20260421T101039
DTSTART;TZID=Europe/Berlin:20260311T180000
DTEND;TZID=Europe/Berlin:20260311T193000
UID:M64017-20260311T180000@VHSBOCHUM
SUMMARY:Spanisch A1.4 (M64017) 
LOCATION:Goethe-Schule Neubau, Raum N 12, Goetheplatz 1, Goetheplatz 1, 44787 Bochum
END:VEVENT
BEGIN:VEVENT
DTSTAMP:20260421T101039
DTSTART;TZID=Europe/Berlin:20260318T180000
DTEND;TZID=Europe/Berlin:20260318T193000
UID:M64017-20260318T180000@VHSBOCHUM
SUMMARY:Spanisch A1.4 (M64017) 
LOCATION:Goethe-Schule Neubau, Raum N 12, Goetheplatz 1, Goetheplatz 1, 44787 Bochum
END:VEVENT
BEGIN:VEVENT
DTSTAMP:20260421T101039
DTSTART;TZID=Europe/Berlin:20260325T180000
DTEND;TZID=Europe/Berlin:20260325T193000
UID:M64017-20260325T180000@VHSBOCHUM
SUMMARY:Spanisch A1.4 (M64017) 
LOCATION:Goethe-Schule Neubau, Raum N 12, Goetheplatz 1, Goetheplatz 1, 44787 Bochum
END:VEVENT
BEGIN:VEVENT
DTSTAMP:20260421T101039
DTSTART;TZID=Europe/Berlin:20260415T180000
DTEND;TZID=Europe/Berlin:20260415T193000
UID:M64017-20260415T180000@VHSBOCHUM
SUMMARY:Spanisch A1.4 (M64017) 
LOCATION:Goethe-Schule Neubau, Raum N 12, Goetheplatz 1, Goetheplatz 1, 44787 Bochum
END:VEVENT
BEGIN:VEVENT
DTSTAMP:20260421T101039
DTSTART;TZID=Europe/Berlin:20260422T180000
DTEND;TZID=Europe/Berlin:20260422T193000
UID:M64017-20260422T180000@VHSBOCHUM
SUMMARY:Spanisch A1.4 (M64017) 
LOCATION:Goethe-Schule Neubau, Raum N 12, Goetheplatz 1, Goetheplatz 1, 44787 Bochum
END:VEVENT
BEGIN:VEVENT
DTSTAMP:20260421T101039
DTSTART;TZID=Europe/Berlin:20260429T180000
DTEND;TZID=Europe/Berlin:20260429T193000
UID:M64017-20260429T180000@VHSBOCHUM
SUMMARY:Spanisch A1.4 (M64017) 
LOCATION:Goethe-Schule Neubau, Raum N 12, Goetheplatz 1, Goetheplatz 1, 44787 Bochum
END:VEVENT
BEGIN:VEVENT
DTSTAMP:20260421T101039
DTSTART;TZID=Europe/Berlin:20260506T180000
DTEND;TZID=Europe/Berlin:20260506T193000
UID:M64017-20260506T180000@VHSBOCHUM
SUMMARY:Spanisch A1.4 (M64017) 
LOCATION:Goethe-Schule Neubau, Raum N 12, Goetheplatz 1, Goetheplatz 1, 44787 Bochum
END:VEVENT
BEGIN:VEVENT
DTSTAMP:20260421T101039
DTSTART;TZID=Europe/Berlin:20260513T180000
DTEND;TZID=Europe/Berlin:20260513T193000
UID:M64017-20260513T180000@VHSBOCHUM
SUMMARY:Spanisch A1.4 (M64017) 
LOCATION:Goethe-Schule Neubau, Raum N 12, Goetheplatz 1, Goetheplatz 1, 44787 Bochum
END:VEVENT
END:VCALENDAR