BEGIN:VCALENDAR
VERSION:2.0
PRODID:https://www.kufer.de/kuferweb / DE
METHOD:PUBLISH
CALSCALE:GREGORIAN
X-WR-TIMEZONE:Europe/Berlin
BEGIN:VTIMEZONE
TZID:Europe/Berlin
X-LIC-LOCATION:Europe/Berlin
BEGIN:DAYLIGHT
TZOFFSETFROM:+0100
TZOFFSETTO:+0200
TZNAME:CEST
DTSTART:19700329T020000
RRULE:FREQ=YEARLY;INTERVAL=1;BYDAY=-1SU;BYMONTH=3
END:DAYLIGHT
BEGIN:STANDARD
TZOFFSETFROM:+0200
TZOFFSETTO:+0100
TZNAME:CET
DTSTART:19701025T030000
RRULE:FREQ=YEARLY;INTERVAL=1;BYDAY=-1SU;BYMONTH=10
END:STANDARD
END:VTIMEZONE
BEGIN:VEVENT
DTSTAMP:20260419T162544
DTSTART;TZID=Europe/Berlin:20260504T090000
DTEND;TZID=Europe/Berlin:20260504T121500
UID:M77131-20260504T090000@VHSBOCHUM
SUMMARY:Deutschkurs Niveaustufe A1.1 - Integrationskurs (M77131) 
LOCATION:Westring 24 Raum 13, Westring 24, 44787 Bochum
END:VEVENT
BEGIN:VEVENT
DTSTAMP:20260419T162544
DTSTART;TZID=Europe/Berlin:20260505T090000
DTEND;TZID=Europe/Berlin:20260505T121500
UID:M77131-20260505T090000@VHSBOCHUM
SUMMARY:Deutschkurs Niveaustufe A1.1 - Integrationskurs (M77131) 
LOCATION:Westring 24 Raum 13, Westring 24, 44787 Bochum
END:VEVENT
BEGIN:VEVENT
DTSTAMP:20260419T162544
DTSTART;TZID=Europe/Berlin:20260506T090000
DTEND;TZID=Europe/Berlin:20260506T121500
UID:M77131-20260506T090000@VHSBOCHUM
SUMMARY:Deutschkurs Niveaustufe A1.1 - Integrationskurs (M77131) 
LOCATION:Westring 24 Raum 13, Westring 24, 44787 Bochum
END:VEVENT
BEGIN:VEVENT
DTSTAMP:20260419T162544
DTSTART;TZID=Europe/Berlin:20260507T090000
DTEND;TZID=Europe/Berlin:20260507T121500
UID:M77131-20260507T090000@VHSBOCHUM
SUMMARY:Deutschkurs Niveaustufe A1.1 - Integrationskurs (M77131) 
LOCATION:Westring 24 Raum 13, Westring 24, 44787 Bochum
END:VEVENT
BEGIN:VEVENT
DTSTAMP:20260419T162544
DTSTART;TZID=Europe/Berlin:20260511T090000
DTEND;TZID=Europe/Berlin:20260511T121500
UID:M77131-20260511T090000@VHSBOCHUM
SUMMARY:Deutschkurs Niveaustufe A1.1 - Integrationskurs (M77131) 
LOCATION:Westring 24 Raum 13, Westring 24, 44787 Bochum
END:VEVENT
BEGIN:VEVENT
DTSTAMP:20260419T162544
DTSTART;TZID=Europe/Berlin:20260512T090000
DTEND;TZID=Europe/Berlin:20260512T121500
UID:M77131-20260512T090000@VHSBOCHUM
SUMMARY:Deutschkurs Niveaustufe A1.1 - Integrationskurs (M77131) 
LOCATION:Westring 24 Raum 13, Westring 24, 44787 Bochum
END:VEVENT
BEGIN:VEVENT
DTSTAMP:20260419T162544
DTSTART;TZID=Europe/Berlin:20260513T090000
DTEND;TZID=Europe/Berlin:20260513T121500
UID:M77131-20260513T090000@VHSBOCHUM
SUMMARY:Deutschkurs Niveaustufe A1.1 - Integrationskurs (M77131) 
LOCATION:Westring 24 Raum 13, Westring 24, 44787 Bochum
END:VEVENT
BEGIN:VEVENT
DTSTAMP:20260419T162544
DTSTART;TZID=Europe/Berlin:20260518T090000
DTEND;TZID=Europe/Berlin:20260518T121500
UID:M77131-20260518T090000@VHSBOCHUM
SUMMARY:Deutschkurs Niveaustufe A1.1 - Integrationskurs (M77131) 
LOCATION:Westring 24 Raum 13, Westring 24, 44787 Bochum
END:VEVENT
BEGIN:VEVENT
DTSTAMP:20260419T162544
DTSTART;TZID=Europe/Berlin:20260519T090000
DTEND;TZID=Europe/Berlin:20260519T121500
UID:M77131-20260519T090000@VHSBOCHUM
SUMMARY:Deutschkurs Niveaustufe A1.1 - Integrationskurs (M77131) 
LOCATION:Westring 24 Raum 13, Westring 24, 44787 Bochum
END:VEVENT
BEGIN:VEVENT
DTSTAMP:20260419T162544
DTSTART;TZID=Europe/Berlin:20260520T090000
DTEND;TZID=Europe/Berlin:20260520T121500
UID:M77131-20260520T090000@VHSBOCHUM
SUMMARY:Deutschkurs Niveaustufe A1.1 - Integrationskurs (M77131) 
LOCATION:Westring 24 Raum 13, Westring 24, 44787 Bochum
END:VEVENT
BEGIN:VEVENT
DTSTAMP:20260419T162544
DTSTART;TZID=Europe/Berlin:20260521T090000
DTEND;TZID=Europe/Berlin:20260521T121500
UID:M77131-20260521T090000@VHSBOCHUM
SUMMARY:Deutschkurs Niveaustufe A1.1 - Integrationskurs (M77131) 
LOCATION:Westring 24 Raum 13, Westring 24, 44787 Bochum
END:VEVENT
BEGIN:VEVENT
DTSTAMP:20260419T162544
DTSTART;TZID=Europe/Berlin:20260527T090000
DTEND;TZID=Europe/Berlin:20260527T121500
UID:M77131-20260527T090000@VHSBOCHUM
SUMMARY:Deutschkurs Niveaustufe A1.1 - Integrationskurs (M77131) 
LOCATION:Westring 24 Raum 13, Westring 24, 44787 Bochum
END:VEVENT
BEGIN:VEVENT
DTSTAMP:20260419T162544
DTSTART;TZID=Europe/Berlin:20260528T090000
DTEND;TZID=Europe/Berlin:20260528T121500
UID:M77131-20260528T090000@VHSBOCHUM
SUMMARY:Deutschkurs Niveaustufe A1.1 - Integrationskurs (M77131) 
LOCATION:Westring 24 Raum 13, Westring 24, 44787 Bochum
END:VEVENT
BEGIN:VEVENT
DTSTAMP:20260419T162544
DTSTART;TZID=Europe/Berlin:20260601T090000
DTEND;TZID=Europe/Berlin:20260601T121500
UID:M77131-20260601T090000@VHSBOCHUM
SUMMARY:Deutschkurs Niveaustufe A1.1 - Integrationskurs (M77131) 
LOCATION:Westring 24 Raum 13, Westring 24, 44787 Bochum
END:VEVENT
BEGIN:VEVENT
DTSTAMP:20260419T162544
DTSTART;TZID=Europe/Berlin:20260602T090000
DTEND;TZID=Europe/Berlin:20260602T121500
UID:M77131-20260602T090000@VHSBOCHUM
SUMMARY:Deutschkurs Niveaustufe A1.1 - Integrationskurs (M77131) 
LOCATION:Westring 24 Raum 13, Westring 24, 44787 Bochum
END:VEVENT
BEGIN:VEVENT
DTSTAMP:20260419T162544
DTSTART;TZID=Europe/Berlin:20260603T090000
DTEND;TZID=Europe/Berlin:20260603T121500
UID:M77131-20260603T090000@VHSBOCHUM
SUMMARY:Deutschkurs Niveaustufe A1.1 - Integrationskurs (M77131) 
LOCATION:Westring 24 Raum 13, Westring 24, 44787 Bochum
END:VEVENT
BEGIN:VEVENT
DTSTAMP:20260419T162544
DTSTART;TZID=Europe/Berlin:20260608T090000
DTEND;TZID=Europe/Berlin:20260608T121500
UID:M77131-20260608T090000@VHSBOCHUM
SUMMARY:Deutschkurs Niveaustufe A1.1 - Integrationskurs (M77131) 
LOCATION:Westring 24 Raum 13, Westring 24, 44787 Bochum
END:VEVENT
BEGIN:VEVENT
DTSTAMP:20260419T162544
DTSTART;TZID=Europe/Berlin:20260609T090000
DTEND;TZID=Europe/Berlin:20260609T121500
UID:M77131-20260609T090000@VHSBOCHUM
SUMMARY:Deutschkurs Niveaustufe A1.1 - Integrationskurs (M77131) 
LOCATION:Westring 24 Raum 13, Westring 24, 44787 Bochum
END:VEVENT
BEGIN:VEVENT
DTSTAMP:20260419T162544
DTSTART;TZID=Europe/Berlin:20260610T090000
DTEND;TZID=Europe/Berlin:20260610T121500
UID:M77131-20260610T090000@VHSBOCHUM
SUMMARY:Deutschkurs Niveaustufe A1.1 - Integrationskurs (M77131) 
LOCATION:Westring 24 Raum 13, Westring 24, 44787 Bochum
END:VEVENT
BEGIN:VEVENT
DTSTAMP:20260419T162544
DTSTART;TZID=Europe/Berlin:20260611T090000
DTEND;TZID=Europe/Berlin:20260611T121500
UID:M77131-20260611T090000@VHSBOCHUM
SUMMARY:Deutschkurs Niveaustufe A1.1 - Integrationskurs (M77131) 
LOCATION:Westring 24 Raum 13, Westring 24, 44787 Bochum
END:VEVENT
BEGIN:VEVENT
DTSTAMP:20260419T162544
DTSTART;TZID=Europe/Berlin:20260615T090000
DTEND;TZID=Europe/Berlin:20260615T121500
UID:M77131-20260615T090000@VHSBOCHUM
SUMMARY:Deutschkurs Niveaustufe A1.1 - Integrationskurs (M77131) 
LOCATION:Westring 24 Raum 13, Westring 24, 44787 Bochum
END:VEVENT
BEGIN:VEVENT
DTSTAMP:20260419T162544
DTSTART;TZID=Europe/Berlin:20260616T090000
DTEND;TZID=Europe/Berlin:20260616T121500
UID:M77131-20260616T090000@VHSBOCHUM
SUMMARY:Deutschkurs Niveaustufe A1.1 - Integrationskurs (M77131) 
LOCATION:Westring 24 Raum 13, Westring 24, 44787 Bochum
END:VEVENT
BEGIN:VEVENT
DTSTAMP:20260419T162544
DTSTART;TZID=Europe/Berlin:20260617T090000
DTEND;TZID=Europe/Berlin:20260617T121500
UID:M77131-20260617T090000@VHSBOCHUM
SUMMARY:Deutschkurs Niveaustufe A1.1 - Integrationskurs (M77131) 
LOCATION:Westring 24 Raum 13, Westring 24, 44787 Bochum
END:VEVENT
BEGIN:VEVENT
DTSTAMP:20260419T162544
DTSTART;TZID=Europe/Berlin:20260618T090000
DTEND;TZID=Europe/Berlin:20260618T121500
UID:M77131-20260618T090000@VHSBOCHUM
SUMMARY:Deutschkurs Niveaustufe A1.1 - Integrationskurs (M77131) 
LOCATION:Westring 24 Raum 13, Westring 24, 44787 Bochum
END:VEVENT
BEGIN:VEVENT
DTSTAMP:20260419T162544
DTSTART;TZID=Europe/Berlin:20260622T090000
DTEND;TZID=Europe/Berlin:20260622T121500
UID:M77131-20260622T090000@VHSBOCHUM
SUMMARY:Deutschkurs Niveaustufe A1.1 - Integrationskurs (M77131) 
LOCATION:Westring 24 Raum 13, Westring 24, 44787 Bochum
END:VEVENT
END:VCALENDAR